BEGIN:VCALENDAR
VERSION:2.0
PRODID:-//BMW Touring Club - ECPv6.15.20//NONSGML v1.0//EN
CALSCALE:GREGORIAN
METHOD:PUBLISH
X-WR-CALNAME:BMW Touring Club
X-ORIGINAL-URL:https://www.bmwtouringclub.nl
X-WR-CALDESC:Evenementen voor BMW Touring Club
REFRESH-INTERVAL;VALUE=DURATION:PT1H
X-Robots-Tag:noindex
X-PUBLISHED-TTL:PT1H
BEGIN:VTIMEZONE
TZID:Europe/Amsterdam
BEGIN:DAYLIGHT
TZOFFSETFROM:+0100
TZOFFSETTO:+0200
TZNAME:CEST
DTSTART:20180325T010000
END:DAYLIGHT
BEGIN:STANDARD
TZOFFSETFROM:+0200
TZOFFSETTO:+0100
TZNAME:CET
DTSTART:20181028T010000
END:STANDARD
BEGIN:DAYLIGHT
TZOFFSETFROM:+0100
TZOFFSETTO:+0200
TZNAME:CEST
DTSTART:20190331T010000
END:DAYLIGHT
BEGIN:STANDARD
TZOFFSETFROM:+0200
TZOFFSETTO:+0100
TZNAME:CET
DTSTART:20191027T010000
END:STANDARD
BEGIN:DAYLIGHT
TZOFFSETFROM:+0100
TZOFFSETTO:+0200
TZNAME:CEST
DTSTART:20200329T010000
END:DAYLIGHT
BEGIN:STANDARD
TZOFFSETFROM:+0200
TZOFFSETTO:+0100
TZNAME:CET
DTSTART:20201025T010000
END:STANDARD
BEGIN:DAYLIGHT
TZOFFSETFROM:+0100
TZOFFSETTO:+0200
TZNAME:CEST
DTSTART:20210328T010000
END:DAYLIGHT
BEGIN:STANDARD
TZOFFSETFROM:+0200
TZOFFSETTO:+0100
TZNAME:CET
DTSTART:20211031T010000
END:STANDARD
BEGIN:DAYLIGHT
TZOFFSETFROM:+0100
TZOFFSETTO:+0200
TZNAME:CEST
DTSTART:20220327T010000
END:DAYLIGHT
BEGIN:STANDARD
TZOFFSETFROM:+0200
TZOFFSETTO:+0100
TZNAME:CET
DTSTART:20221030T010000
END:STANDARD
BEGIN:DAYLIGHT
TZOFFSETFROM:+0100
TZOFFSETTO:+0200
TZNAME:CEST
DTSTART:20230326T010000
END:DAYLIGHT
BEGIN:STANDARD
TZOFFSETFROM:+0200
TZOFFSETTO:+0100
TZNAME:CET
DTSTART:20231029T010000
END:STANDARD
BEGIN:DAYLIGHT
TZOFFSETFROM:+0100
TZOFFSETTO:+0200
TZNAME:CEST
DTSTART:20240331T010000
END:DAYLIGHT
BEGIN:STANDARD
TZOFFSETFROM:+0200
TZOFFSETTO:+0100
TZNAME:CET
DTSTART:20241027T010000
END:STANDARD
BEGIN:DAYLIGHT
TZOFFSETFROM:+0100
TZOFFSETTO:+0200
TZNAME:CEST
DTSTART:20250330T010000
END:DAYLIGHT
BEGIN:STANDARD
TZOFFSETFROM:+0200
TZOFFSETTO:+0100
TZNAME:CET
DTSTART:20251026T010000
END:STANDARD
BEGIN:DAYLIGHT
TZOFFSETFROM:+0100
TZOFFSETTO:+0200
TZNAME:CEST
DTSTART:20260329T010000
END:DAYLIGHT
BEGIN:STANDARD
TZOFFSETFROM:+0200
TZOFFSETTO:+0100
TZNAME:CET
DTSTART:20261025T010000
END:STANDARD
END:VTIMEZONE
BEGIN:VEVENT
DTSTART;TZID=Europe/Amsterdam:20251219T193000
DTEND;TZID=Europe/Amsterdam:20251219T230000
DTSTAMP:20260422T143134
CREATED:20251118T191003Z
LAST-MODIFIED:20251118T194958Z
UID:2907-1766172600-1766185200@www.bmwtouringclub.nl
SUMMARY:Kletsavond BMW 02 Club Nederland & BMW Touring Club Nederland
DESCRIPTION:Beste clubleden\, \nWe nodigen jullie van harte uit voor een gezellige Kletsavond samen met de BMW 02 Club Nederland en de BMW Touring Club Nederland. \nDeze avond vindt plaats bij Visscher Classique in Buren\, een fantastische locatie waar je kunt genieten van een indrukwekkende tijdelijke collectie klassieke BMW’s. Een avond vol mooie auto’s\, leuke gesprekken en echte BMW-passie. \nDe eigen bijdrage voor de kletsavond is slechts € 15\,- De avond is inclusief: \n– Een smakelijk kopje koffie of thee met een stukje gebak bij binnenkomst\n– Twee consumpties naar keuze\n– Een goed gevuld plateau met bittergarnituur \nVerdere consumpties zijn voor eigen rekening. Let op aanmelden is noodzakelijk en doe dit voor uiterlijk 16 december\, daarna aanmelden is niet meer mogelijk. Zie hiervoor deze AANMELDPAGINA \nGraag tot ziens bij deze bijzondere avond in Buren!
URL:https://www.bmwtouringclub.nl/evenementen/20251219_kletsavond/
LOCATION:Visscher Classique\, Burensedijk 36\, Buren\, 4116 GG
CATEGORIES:Club
ATTACH;FMTTYPE=image/jpeg:https://www.bmwtouringclub.nl/wp-content/uploads/2025/11/Visscher-kletsavond.jpg
END:VEVENT
BEGIN:VEVENT
DTSTART;VALUE=DATE:20230909
DTEND;VALUE=DATE:20230910
DTSTAMP:20260422T143134
CREATED:20230716T145242Z
LAST-MODIFIED:20230917T192859Z
UID:2521-1694217600-1694303999@www.bmwtouringclub.nl
SUMMARY:Internationaal 02 Treffen Lelystad
DESCRIPTION:Uitnodiging Int 02 treffen Lelystad 2023 \nNa lange tijd van afwezigheid zijn we blij eindelijk weer een int 02 treffen te kunnen aankondigen.\nDe BMW 02 Club en de BMW Touring Club hebben de handen ineengeslagen en dit evenement georganiseerd\, op 9 september 2023 openen wij om 10 :00 uur de poorten van het Midland circuit. \nWil je een bijdrage geven aan dit evenement meld je dan aan als vrijwilliger voor een deel van de dag (maarten@bmw02club.nl) \n \nVan de voorzitters \nSamen met de BMW Touring Club en BMW 02 club organiseren we het internationale 02 treffen in Lelystad. Mijn herinneringen (@paul) gaan terug naar speedway circuit de Berckt in Baarlo waar ik in de jaren 80 met mijn oudste zoon naar toe ging. Wat keken wij onze ogen uit naar al die mooie BMW’s. De BMW koorts is hierna nooit meer verdwenen. Vele vrienden van ons merk kwamen uit de UK\, België\, Duitsland en van nog veel verder weg. Dit evenement is later verplaatst naar Lelystad. \nNa de laatste keer in 2019\, denken wij dat iedereen er naar uitkijkt elkaar weer te ontmoeten. Dit jaar moet het ook weer een geweldig evenement worden met zo veel mogelijk auto’s. Ik hoop dat alle 02 varianten prachtig opgepoetst klaar staan om op 9 september te shinen en meedoen aan het concours D ‘élégance. Wie heeft de mooiste en origineelste BMW? \nTraditionele onderdelen zoals de sprintrace en de slalom kunnen weer beoefend worden. De kick off zal worden verreden door niemand minder dan René Blanken waarbij we verwachten dat er een scherpe referentie tijd wordt neergezet. (Kom René aanmoedigen) \nZo kunnen we weer genieten van de snelste rondjes die op het circuit gereden kunnen worden.Tevens is er de mogelijkheid je auto te laten taxeren. Details hierover worden op de website gepubliceerd. We zijn bezig verkopers van onderdelen te benaderen voor deelname. Wil je zelf een kraam huren? Informeer naar de mogelijkheden. \nBen je bezig met een project\, kom dan toch langs en doe inspiratie op door met leden te praten die dit traject doorlopen hebben. Samen kunnen we elkaar motiveren om dit erfgoed op de weg te houden. Wil je wat verkopen\, neem het mee en maak er een ‘boot sale’ van. Zelf word ik daar ook altijd hebberig van. Er zal een foto/video verslag van de dag worden gemaakt door professionals.\nVoor wie zich daarvoor heeft opgegeven is er na afloop een BBQ. (16:00-18:00)  \nU ziet het\, een traditionele dag vol met leuke uitdagingen en mogelijkheden en een aandenken in de vorm van een schildje. We kijken uit naar jullie komst.  \nUw voorzitters\nPaul Gebbink & Huibert van Zanten
URL:https://www.bmwtouringclub.nl/evenementen/internationaal-02-treffen-lelystad/
LOCATION:Midland Circuit Lelystad\, Talingweg 89\, Lelystad\, 8218 NX
CATEGORIES:Club
ATTACH;FMTTYPE=image/png:https://www.bmwtouringclub.nl/wp-content/uploads/2023/07/treffen2023_klein-e1689521909786.png
END:VEVENT
BEGIN:VEVENT
DTSTART;TZID=Europe/Amsterdam:20190616T110000
DTEND;TZID=Europe/Amsterdam:20190616T170000
DTSTAMP:20260422T143134
CREATED:20190125T182530Z
LAST-MODIFIED:20201021T123152Z
UID:1225-1560682800-1560704400@www.bmwtouringclub.nl
SUMMARY:16-06-2019 BMW promotiedag
DESCRIPTION:16 juni om 11 uur is het zover dan wordt Deventer bedolven onder de BMW’s. Van oud naar nieuw\, motor of auto. \nDe omliggende dealers #SIMAKOBDM en #DusseldorpBMW werken hier aan mee. En nieuw in Nederland #KOEDBMW is aanwezig. \nVoor zowel jong als oud is er genoeg te zien. Springkussen voor de kleintjes. \nLoterij voor de volwassenen met als hoofdprijs 4 #Vredestein autobanden. De opbrengst gaat naar het Emma kinderziekenhuis in Amsterdam. \nParkeren bij het pontje en een gratis overtocht op vertoon van clubpas. Kom langs en maak kennis met de verschillende erkende BMW clubs uit Nederland. \nZoals altijd is de entree gratis.
URL:https://www.bmwtouringclub.nl/evenementen/bmw-promotiedag/
LOCATION:Grote of Lebuïnuskerk\, Grote Kerkhof\, Deventer\, 7411 PE
CATEGORIES:Club
ATTACH;FMTTYPE=image/jpeg:https://www.bmwtouringclub.nl/wp-content/uploads/2019/01/BMW_promotiedag_2019-e1559844229438.jpg
END:VEVENT
END:VCALENDAR