BEGIN:VCALENDAR
VERSION:2.0
PRODID:-//BMW Touring Club - ECPv6.15.20//NONSGML v1.0//EN
CALSCALE:GREGORIAN
METHOD:PUBLISH
X-WR-CALNAME:BMW Touring Club
X-ORIGINAL-URL:https://www.bmwtouringclub.nl
X-WR-CALDESC:Evenementen voor BMW Touring Club
REFRESH-INTERVAL;VALUE=DURATION:PT1H
X-Robots-Tag:noindex
X-PUBLISHED-TTL:PT1H
BEGIN:VTIMEZONE
TZID:Europe/Amsterdam
BEGIN:DAYLIGHT
TZOFFSETFROM:+0100
TZOFFSETTO:+0200
TZNAME:CEST
DTSTART:20060326T010000
END:DAYLIGHT
BEGIN:STANDARD
TZOFFSETFROM:+0200
TZOFFSETTO:+0100
TZNAME:CET
DTSTART:20061029T010000
END:STANDARD
BEGIN:DAYLIGHT
TZOFFSETFROM:+0100
TZOFFSETTO:+0200
TZNAME:CEST
DTSTART:20070325T010000
END:DAYLIGHT
BEGIN:STANDARD
TZOFFSETFROM:+0200
TZOFFSETTO:+0100
TZNAME:CET
DTSTART:20071028T010000
END:STANDARD
BEGIN:DAYLIGHT
TZOFFSETFROM:+0100
TZOFFSETTO:+0200
TZNAME:CEST
DTSTART:20080330T010000
END:DAYLIGHT
BEGIN:STANDARD
TZOFFSETFROM:+0200
TZOFFSETTO:+0100
TZNAME:CET
DTSTART:20081026T010000
END:STANDARD
BEGIN:DAYLIGHT
TZOFFSETFROM:+0100
TZOFFSETTO:+0200
TZNAME:CEST
DTSTART:20090329T010000
END:DAYLIGHT
BEGIN:STANDARD
TZOFFSETFROM:+0200
TZOFFSETTO:+0100
TZNAME:CET
DTSTART:20091025T010000
END:STANDARD
BEGIN:DAYLIGHT
TZOFFSETFROM:+0100
TZOFFSETTO:+0200
TZNAME:CEST
DTSTART:20100328T010000
END:DAYLIGHT
BEGIN:STANDARD
TZOFFSETFROM:+0200
TZOFFSETTO:+0100
TZNAME:CET
DTSTART:20101031T010000
END:STANDARD
BEGIN:DAYLIGHT
TZOFFSETFROM:+0100
TZOFFSETTO:+0200
TZNAME:CEST
DTSTART:20110327T010000
END:DAYLIGHT
BEGIN:STANDARD
TZOFFSETFROM:+0200
TZOFFSETTO:+0100
TZNAME:CET
DTSTART:20111030T010000
END:STANDARD
BEGIN:DAYLIGHT
TZOFFSETFROM:+0100
TZOFFSETTO:+0200
TZNAME:CEST
DTSTART:20120325T010000
END:DAYLIGHT
BEGIN:STANDARD
TZOFFSETFROM:+0200
TZOFFSETTO:+0100
TZNAME:CET
DTSTART:20121028T010000
END:STANDARD
BEGIN:DAYLIGHT
TZOFFSETFROM:+0100
TZOFFSETTO:+0200
TZNAME:CEST
DTSTART:20130331T010000
END:DAYLIGHT
BEGIN:STANDARD
TZOFFSETFROM:+0200
TZOFFSETTO:+0100
TZNAME:CET
DTSTART:20131027T010000
END:STANDARD
BEGIN:DAYLIGHT
TZOFFSETFROM:+0100
TZOFFSETTO:+0200
TZNAME:CEST
DTSTART:20140330T010000
END:DAYLIGHT
BEGIN:STANDARD
TZOFFSETFROM:+0200
TZOFFSETTO:+0100
TZNAME:CET
DTSTART:20141026T010000
END:STANDARD
BEGIN:DAYLIGHT
TZOFFSETFROM:+0100
TZOFFSETTO:+0200
TZNAME:CEST
DTSTART:20150329T010000
END:DAYLIGHT
BEGIN:STANDARD
TZOFFSETFROM:+0200
TZOFFSETTO:+0100
TZNAME:CET
DTSTART:20151025T010000
END:STANDARD
BEGIN:DAYLIGHT
TZOFFSETFROM:+0100
TZOFFSETTO:+0200
TZNAME:CEST
DTSTART:20160327T010000
END:DAYLIGHT
BEGIN:STANDARD
TZOFFSETFROM:+0200
TZOFFSETTO:+0100
TZNAME:CET
DTSTART:20161030T010000
END:STANDARD
BEGIN:DAYLIGHT
TZOFFSETFROM:+0100
TZOFFSETTO:+0200
TZNAME:CEST
DTSTART:20170326T010000
END:DAYLIGHT
BEGIN:STANDARD
TZOFFSETFROM:+0200
TZOFFSETTO:+0100
TZNAME:CET
DTSTART:20171029T010000
END:STANDARD
BEGIN:DAYLIGHT
TZOFFSETFROM:+0100
TZOFFSETTO:+0200
TZNAME:CEST
DTSTART:20180325T010000
END:DAYLIGHT
BEGIN:STANDARD
TZOFFSETFROM:+0200
TZOFFSETTO:+0100
TZNAME:CET
DTSTART:20181028T010000
END:STANDARD
BEGIN:DAYLIGHT
TZOFFSETFROM:+0100
TZOFFSETTO:+0200
TZNAME:CEST
DTSTART:20190331T010000
END:DAYLIGHT
BEGIN:STANDARD
TZOFFSETFROM:+0200
TZOFFSETTO:+0100
TZNAME:CET
DTSTART:20191027T010000
END:STANDARD
BEGIN:DAYLIGHT
TZOFFSETFROM:+0100
TZOFFSETTO:+0200
TZNAME:CEST
DTSTART:20200329T010000
END:DAYLIGHT
BEGIN:STANDARD
TZOFFSETFROM:+0200
TZOFFSETTO:+0100
TZNAME:CET
DTSTART:20201025T010000
END:STANDARD
BEGIN:DAYLIGHT
TZOFFSETFROM:+0100
TZOFFSETTO:+0200
TZNAME:CEST
DTSTART:20210328T010000
END:DAYLIGHT
BEGIN:STANDARD
TZOFFSETFROM:+0200
TZOFFSETTO:+0100
TZNAME:CET
DTSTART:20211031T010000
END:STANDARD
BEGIN:DAYLIGHT
TZOFFSETFROM:+0100
TZOFFSETTO:+0200
TZNAME:CEST
DTSTART:20220327T010000
END:DAYLIGHT
BEGIN:STANDARD
TZOFFSETFROM:+0200
TZOFFSETTO:+0100
TZNAME:CET
DTSTART:20221030T010000
END:STANDARD
BEGIN:DAYLIGHT
TZOFFSETFROM:+0100
TZOFFSETTO:+0200
TZNAME:CEST
DTSTART:20230326T010000
END:DAYLIGHT
BEGIN:STANDARD
TZOFFSETFROM:+0200
TZOFFSETTO:+0100
TZNAME:CET
DTSTART:20231029T010000
END:STANDARD
BEGIN:DAYLIGHT
TZOFFSETFROM:+0100
TZOFFSETTO:+0200
TZNAME:CEST
DTSTART:20240331T010000
END:DAYLIGHT
BEGIN:STANDARD
TZOFFSETFROM:+0200
TZOFFSETTO:+0100
TZNAME:CET
DTSTART:20241027T010000
END:STANDARD
BEGIN:DAYLIGHT
TZOFFSETFROM:+0100
TZOFFSETTO:+0200
TZNAME:CEST
DTSTART:20250330T010000
END:DAYLIGHT
BEGIN:STANDARD
TZOFFSETFROM:+0200
TZOFFSETTO:+0100
TZNAME:CET
DTSTART:20251026T010000
END:STANDARD
BEGIN:DAYLIGHT
TZOFFSETFROM:+0100
TZOFFSETTO:+0200
TZNAME:CEST
DTSTART:20260329T010000
END:DAYLIGHT
BEGIN:STANDARD
TZOFFSETFROM:+0200
TZOFFSETTO:+0100
TZNAME:CET
DTSTART:20261025T010000
END:STANDARD
END:VTIMEZONE
BEGIN:VEVENT
DTSTART;TZID=Europe/Amsterdam:20250321T200000
DTEND;TZID=Europe/Amsterdam:20250321T220000
DTSTAMP:20260422T194405
CREATED:20250309T184415Z
LAST-MODIFIED:20250309T185324Z
UID:2703-1742587200-1742594400@www.bmwtouringclub.nl
SUMMARY:Algemene Ledenvergadering
DESCRIPTION:De Algemene Ledenvergadering is weer ingepland. In de email die begin maart verzonden is zijn de links naar de agenda en de notulen van vorig jaar opgenomen. \nWe kijken er naar uit om jullie te zien op 21 maart a.s.  \nHet adres: \nPaasheuvelweg 26\n1e verdieping\n1105BJ Amsterdam Zuid-Oost \nDatum : 21 maart 2025\nAanvang: 20:00u
URL:https://www.bmwtouringclub.nl/evenementen/alv-2/
LOCATION:Beyuna\, Paasheuvelweg 26\, Amsterdam ZO\, 1105 BJ\, Netherlands
CATEGORIES:Club
ATTACH;FMTTYPE=image/jpeg:https://www.bmwtouringclub.nl/wp-content/uploads/2018/12/ALV.jpg
ORGANIZER;CN="BMW Touring Club":MAILTO:secretaris@bmwtouringclub.nl
END:VEVENT
BEGIN:VEVENT
DTSTART;TZID=Europe/Amsterdam:20240512T200000
DTEND;TZID=Europe/Amsterdam:20240512T220000
DTSTAMP:20260422T194405
CREATED:20240428T114717Z
LAST-MODIFIED:20240428T122823Z
UID:2632-1715544000-1715551200@www.bmwtouringclub.nl
SUMMARY:Algemene Leden Vergadering
DESCRIPTION:Geachte BMW Touring Club leden\,Graag nodigen we u uit voor de Algemene Leden Vergadering \n\n\n\n\n\nDeze zal gehouden worden op maandag 13 Mei.\n\nIn de email die u heeft ontvangen vindt u links naar de agenda en de notulen van de vorige vergadering. Voor een correcte weergave van de agenda en de notulen moet u het bestand eerst downloaden nadat u de link heeft geopend. \n\n\n\n\nJan Porton is aftredend en dus zijn we op zoek naar iemand die de functie van secretaris op zich wil nemen.\n\n\n\nOok zijn wij op zoek naar iemand die ons clubblad nieuw leven kan inblazen\, dit kan ook i.c.m. het secretarisschap\n\n\n\nVind u het leuk een van deze functies te bekleden laat het dan weten door een bericht te sturen naar redactie@bmwtouringclub.nl \n\n\n\n\nDe vergadering wordt gehouden op het volgende adres; \n\n\n\nPaasheuvelweg 261105 BJ Amsterdam zuidoost1e verdiepingAanvang 20:00 uur \n\n\n\nDe vergadering zal worden opgenomen om het notuleren achteraf te vereenvoudigen. De vergadering is niet online te volgen. \n\n\n\nWilt U laten weten of u aanwezig bent ivm de in te kopen drank en versnaperingenDit kan op alv@bmwtouringclub.nl
URL:https://www.bmwtouringclub.nl/evenementen/algemene-leden-vergadering-3/
LOCATION:Beyuna\, Paasheuvelweg 26\, Amsterdam ZO\, 1108 BJ
CATEGORIES:Club
ATTACH;FMTTYPE=image/png:https://www.bmwtouringclub.nl/wp-content/uploads/algemene_afbeeldingen/ALV.png
ORGANIZER;CN="BMW Touring Club":MAILTO:secretaris@bmwtouringclub.nl
END:VEVENT
BEGIN:VEVENT
DTSTART;TZID=Europe/Amsterdam:20220401T200000
DTEND;TZID=Europe/Amsterdam:20220401T213000
DTSTAMP:20260422T194405
CREATED:20220223T210954Z
LAST-MODIFIED:20221022T070104Z
UID:2379-1648843200-1648848600@www.bmwtouringclub.nl
SUMMARY:Algemene Ledenvergadering 2022
DESCRIPTION:Deze zal gehouden worden op het volgende adres. \nPaasheuvelweg 26\n1105 BJ Amsterdam zuidoost\n1e verdieping\nAanvang 20:00 uur\, 1-4-2022 \nDe link naar de agenda en de notulen van de laatste ALV kunt u terugvinden in de uitnodiging die u per email heeft ontvangen.  \nWe vinden het fijn als U aanwezig kunt zijn maar voor degene die graag online wil meekijken of spreken zal er een online stream gestart worden. De link en de bijbehorende informatie om aan te melden is eveneens per mail aan de leden toegestuurd.
URL:https://www.bmwtouringclub.nl/evenementen/algemene-ledenvergadering-3/
CATEGORIES:Club
ATTACH;FMTTYPE=image/jpeg:https://www.bmwtouringclub.nl/wp-content/uploads/2018/12/ALV.jpg
ORGANIZER;CN="BMW Touring Club":MAILTO:secretaris@bmwtouringclub.nl
END:VEVENT
BEGIN:VEVENT
DTSTART;TZID=Europe/Amsterdam:20200626T200000
DTEND;TZID=Europe/Amsterdam:20200626T230000
DTSTAMP:20260422T194405
CREATED:20191202T130811Z
LAST-MODIFIED:20201021T122903Z
UID:1475-1593201600-1593212400@www.bmwtouringclub.nl
SUMMARY:26-06-2020 Algemene Ledenvergadering
DESCRIPTION:update : definitieve datum ALV vrijdag 26/6/2020 \n  \nBeste Clubleden\, \nZonder tegen bericht nodigen wij u uit om de Algemene Leden Vergadering van de BMW Touring Club bij te wonen op vrijdag 26 juni 2020. De vergadering vind plaats in \nDe Roskam\nHessenweg 212\,\n3791 PN Achterveld \nAanvang 20:00 uur \nZoals al eerder vermeld is de voorzitter aftredend en niet herkiesbaar.  Op de vergaderlocatie is een opstelling van tafels en stoelen te realiseren waardoor we ruim voldoende afstand kunnen garanderen. \nNamens het bestuur van de BMW Touring Club.\nKarel Roolker (Voorzitter) \n  \n  \n\nBeste leden van de BMW Touring Club. \nNormaal gesproken hadden wij u nu uitgenodigd om de algemene leden vergadering bij te wonen.\nDe recente ontwikkelingen m.b.t het COVID-19 (Corona) virus hebben ons doen besluiten de vergadering\, die op 27 maart was gepland\, tot nader bericht uit te stellen. Zodra de situatie het weer toelaat zullen we de nieuwe datum voor de ALV bekend maken. \nWe hopen op ieders begrip in deze. \nNamens het bestuur van de BMW Touring Club.\nKarel Roolker (Voorzitter)
URL:https://www.bmwtouringclub.nl/evenementen/algemene-ledenvergadering-2/
LOCATION:Partycentrum De Roskam\, Hessenweg 212\, Achterveld\, 3791 PN
CATEGORIES:Club
ATTACH;FMTTYPE=image/png:https://www.bmwtouringclub.nl/wp-content/uploads/algemene_afbeeldingen/ALV.png
ORGANIZER;CN="BMW Touring Club":MAILTO:secretaris@bmwtouringclub.nl
END:VEVENT
BEGIN:VEVENT
DTSTART;TZID=Europe/Amsterdam:20190322T200000
DTEND;TZID=Europe/Amsterdam:20190322T220000
DTSTAMP:20260422T194405
CREATED:20190218T194454Z
LAST-MODIFIED:20201021T123112Z
UID:1248-1553284800-1553292000@www.bmwtouringclub.nl
SUMMARY:22-03-2019 Algemene ledenvergadering
DESCRIPTION:Bij deze nodig ik u uit voor de Algemene Leden Vergadering van de BMW Touring Club op vrijdag 22 maart as. \nDeze zal worden gehouden in Hotel-Café de Roskam te Achterveld. \n  \nDe functie van de secretaris staat vacant. Laat het ons weten als u zich  kandidaat wilt stellen. \nNa afloop zullen we nog even gezellig napraten onder het genot van een hapje en een drankje. Graag zien we jullie vrijdag 22 maart in Hotel-Café de Roskam te Achterveld. \nLaat u even weten of u komt?
URL:https://www.bmwtouringclub.nl/evenementen/algemene-ledenvergadering/
LOCATION:Partycentrum De Roskam\, Hessenweg 212\, Achterveld\, 3791 PN
CATEGORIES:Club
ATTACH;FMTTYPE=image/png:https://www.bmwtouringclub.nl/wp-content/uploads/algemene_afbeeldingen/ALV.png
END:VEVENT
BEGIN:VEVENT
DTSTART;TZID=Europe/Amsterdam:20180406T200000
DTEND;TZID=Europe/Amsterdam:20180406T223000
DTSTAMP:20260422T194405
CREATED:20180510T181525Z
LAST-MODIFIED:20200627T205544Z
UID:560-1523044800-1523053800@www.bmwtouringclub.nl
SUMMARY:Algemene Leden Vergadering
DESCRIPTION:Bij deze nodig ik u uit voor de Algemene Leden Vergadering van de BMW Touring Club op vrijdag 6 april as. \nDeze zal worden gehouden in Hotel-Café de Roskam te Achterveld \nDe agenda is inmiddels aan u per mail verzonden. Op deze avond zullen wij ook de BCE passen uitdelen. Na afloop zullen we nog even gezellig napraten onder het genot van een hapje en een drankje. Graag zien we jullie vrijdag 6 april in Hotel-Café de Roskam te Achterveld. Laat u even weten of u komt?
URL:https://www.bmwtouringclub.nl/evenementen/algemene-leden-vergadering/
LOCATION:Partycentrum De Roskam\, Hessenweg 212\, Achterveld\, 3791 PN
CATEGORIES:Club
ATTACH;FMTTYPE=image/png:https://www.bmwtouringclub.nl/wp-content/uploads/algemene_afbeeldingen/ALV.png
END:VEVENT
BEGIN:VEVENT
DTSTART;TZID=Europe/Amsterdam:20160318T200000
DTEND;TZID=Europe/Amsterdam:20160318T220000
DTSTAMP:20260422T194405
CREATED:20181226T150121Z
LAST-MODIFIED:20200627T204942Z
UID:1001-1458331200-1458338400@www.bmwtouringclub.nl
SUMMARY:Algemene Leden Vergadering
DESCRIPTION:
URL:https://www.bmwtouringclub.nl/evenementen/algemene-leden-vergadering-2/
LOCATION:Partycentrum De Roskam\, Hessenweg 212\, Achterveld\, 3791 PN
CATEGORIES:Club
ATTACH;FMTTYPE=image/png:https://www.bmwtouringclub.nl/wp-content/uploads/algemene_afbeeldingen/ALV.png
ORGANIZER;CN="BMW Touring Club":MAILTO:secretaris@bmwtouringclub.nl
END:VEVENT
BEGIN:VEVENT
DTSTART;VALUE=DATE:20070325
DTEND;VALUE=DATE:20070326
DTSTAMP:20260422T194405
CREATED:20181230T151015Z
LAST-MODIFIED:20200627T202705Z
UID:1137-1174780800-1174867199@www.bmwtouringclub.nl
SUMMARY:Algemene Leden Vergadering
DESCRIPTION:
URL:https://www.bmwtouringclub.nl/evenementen/alv/
LOCATION:Molecaten Park Landgoed Ginkelduin\, Scherpenzeelseweg 53\, Leersum\, 3956 KD
CATEGORIES:Club
ATTACH;FMTTYPE=image/png:https://www.bmwtouringclub.nl/wp-content/uploads/algemene_afbeeldingen/ALV.png
END:VEVENT
END:VCALENDAR